Workbook

Sheet Лист1
A2: A2:I39B5A2:I59A2:I59B5A2:I59A2:I47
C3: ІІІ. БЮДЖЕТ ПРОЄКТУ
B5: Загальний бюджет проєкту «S.gov-hub» (капітальний ремонт з модернізацією інформаційної стели на розі пров. Бульварного та вул. Володимира Великого)
B7: № з/п | C7: Найменування товарів, робіт, послуг | D7: Одиниці виміру | E7: Розрахунок статті витрат | H7: Джерела фінансування
E8: Орієнтовна ціна за од. (грн.) | F8: кількість | G8: сума (грн.) | H8: громадський бюджет (грн.) | I8: Співфінансування автора (грн.)
B9: 1 | C9: Розробка проектно-кошторисної документації. | D9: шт. | E9: 50000 | F9: 1 | G9: 50000 | H9: =G9-I9 -> 50000
B10: 2 | C10: Проведення державної експертизи кошторисної частини проектної документації. | D10: шт. | E10: 4000 | F10: 1 | G10: =E10*F10 -> 4000 | H10: =G10-I10 -> 4000
B11: 3 | C11: Авторський нагляд | D11: шт. | E11: 6000 | F11: 1 | G11: =E11*F11 -> 6000 | H11: =G11-I11 -> 6000
B12: 4 | C12: Технічний нагляд | D12: шт. | E12: 6000 | F12: 1 | G12: =E12*F12 -> 6000 | H12: =G12-I12 -> 6000
B13: 5 | C13: Виконання робіт з капітального ремонту: | E13: 21000 | G13: 21000 | H13: 21000
B14: 5. 1. | C14: демонтажно-підготовчі роботи (підготовка, очищення поверхонь під укладання їплитки) | D14: м2 | E14: 220 | F14: 60 | G14: 12100 | H14: 12100
B15: 5.2 | C15: роботи з облаштування стелі (у суму робіт включено вартість матеріалів) | D15: м2 | E15: 175 | F15: 60 | G15: 38490 | H15: 38490
B16: 5.3 | C16: роботи з освітлення (у суму робіт включено вартість матеріалів) | D16: шт. | E16: 540 | F16: 8 | G16: 5120 | H16: 5120
B17: 5.4 | C17: демонтажно-підготовчі роботи (відбивання штукатурки, підготовка, очищення поверхонь під фарбування) | D17: м2 | E17: 2875 | F17: 60 | G17: 20000 | H17: 20000
C18: Придбання облладнання
C19: =[1]Лист1!B11 -> Кондиціонер | D19: =[1]Лист1!C11 -> шт | E19: =[1]Лист1!D11 -> 10000 | F19: 1 | G19: 10000 | H19: 10000
C20: =[1]Лист1!B12 -> Жалюзи ролета тканинна (x,y) | D20: =[1]Лист1!C12 -> шт | E20: =[1]Лист1!D12 -> 950 | F20: =[1]Лист1!E12 -> 4 | G20: 3800 | H20: 3800
C21: =[1]Лист1!B13 -> Мережевий фільтр | D21: =[1]Лист1!C13 -> м | E21: =[1]Лист1!D13 -> 150 | F21: =[1]Лист1!E13 -> 2 | G21: =[1]Лист1!F13 -> 300 | H21: 300
C22: =[1]Лист1!B14 -> Мікрофон безпровідний петельковий | D22: =[1]Лист1!C14 -> шт | E22: =[1]Лист1!D14 -> 480 | F22: =[1]Лист1!E14 -> 2 | G22: =[1]Лист1!F14 -> 960 | H22: 960
C23: =[1]Лист1!B15 -> Маршрутизатор | D23: =[1]Лист1!C15 -> шт | E23: =[1]Лист1!D15 -> 3510 | F23: =[1]Лист1!E15 -> 1 | G23: =[1]Лист1!F15 -> 3510 | H23: 3510
C24: Телевізор | D24: =[1]Лист1!C16 -> шт | E24: =[1]Лист1!D16 -> 20000 | F24: =[1]Лист1!E16 -> 1 | G24: =[1]Лист1!F16 -> 20000 | H24: 20000
C25: =[1]Лист1!B17 -> Венталіційні рішітки | D25: =[1]Лист1!C17 -> шт | E25: =[1]Лист1!D17 -> 60 | F25: =[1]Лист1!E17 -> 5 | G25: =[1]Лист1!F17 -> 300 | H25: 300
C26: =[1]Лист1!B18 -> Вимикачі | D26: =[1]Лист1!C18 -> шт | E26: =[1]Лист1!D18 -> 50 | F26: =[1]Лист1!E18 -> 2 | G26: =[1]Лист1!F18 -> 100 | H26: 100
C27: =[1]Лист1!B19 -> Розетки | D27: =[1]Лист1!C19 -> шт | E27: =[1]Лист1!D19 -> 60 | F27: =[1]Лист1!E19 -> 4 | G27: =[1]Лист1!F19 -> 180 | H27: 180
C28: Стільці iso | D28: =[1]Лист1!C20 -> шт | E28: =[1]Лист1!D20 -> 800 | F28: =[1]Лист1!E20 -> 3 | G28: =[1]Лист1!F20 -> 2400 | H28: 2400
C29: =[1]Лист1!B21 -> Стіл | D29: =[1]Лист1!C21 -> шт | E29: =[1]Лист1!D21 -> 1600 | F29: =[1]Лист1!E21 -> 3 | G29: =[1]Лист1!F21 -> 4800 | H29: 4800
C30: =[1]Лист1!B22 -> Мобільні тумби | D30: =[1]Лист1!C22 -> шт | E30: =[1]Лист1!D22 -> 1400 | F30: =[1]Лист1!E22 -> 3 | G30: =[1]Лист1!F22 -> 4200 | H30: 4200
C31: =[1]Лист1!B23 -> МФУ | D31: =[1]Лист1!C23 -> шт | E31: 12000 | F31: 2 | G31: 24000 | H31: 24000
C32: Стільці | D32: =[1]Лист1!C24 -> шт | E32: =[1]Лист1!D24 -> 800 | F32: =[1]Лист1!E24 -> 8 | G32: =[1]Лист1!F24 -> 16000 | H32: 16000
C33: =[1]Лист1!B25 -> Стілаж | D33: =[1]Лист1!C25 -> шт | E33: =[1]Лист1!D25 -> 2100 | F33: =[1]Лист1!E25 -> 1 | G33: =[1]Лист1!F25 -> 2100 | H33: 2100
C34: =[1]Лист1!B26 -> Штатив | D34: =[1]Лист1!C26 -> шт | E34: =[1]Лист1!D26 -> 350 | F34: =[1]Лист1!E26 -> 1 | G34: =[1]Лист1!F26 -> 350 | H34: 350
C35: =[1]Лист1!B27 -> Фотозона для зйомки | D35: =[1]Лист1!C27 -> шт | E35: =[1]Лист1!D27 -> 5750 | F35: =[1]Лист1!E27 -> 1 | G35: =[1]Лист1!F27 -> 5750 | H35: 5750
C36: =[1]Лист1!B28 -> Професійна світлодіодналампа для фото та відеозйомки | D36: =[1]Лист1!C28 -> шт | E36: =[1]Лист1!D28 -> 1500 | F36: =[1]Лист1!E28 -> 1 | G36: =[1]Лист1!F28 -> 1500 | H36: 1500
C37: безкаркасні меблі | D37: =[1]Лист1!C29 -> шт | E37: 800 | F37: 4 | G37: 3200 | H37: 3200
C38: =[1]Лист1!B30 -> ноутбук | D38: =[1]Лист1!C30 -> шт | E38: =[1]Лист1!D30 -> 27000 | F38: =[1]Лист1!E30 -> 3 | G38: 81000 | H38: 81000
C39: =[1]Лист1!B31 -> Квадрокоптер | D39: =[1]Лист1!C31 -> шт | E39: =[1]Лист1!D31 -> 4600 | F39: =[1]Лист1!E31 -> 1 | G39: =[1]Лист1!F31 -> 4600 | H39: 4600
C40: =[1]Лист1!B32 -> GoPro+штатив | D40: =[1]Лист1!C32 -> шт | E40: =[1]Лист1!D32 -> 1520 | F40: =[1]Лист1!E32 -> 1 | G40: =[1]Лист1!F32 -> 1520 | H40: 1520
C41: безкаркасні меблі | D41: =[1]Лист1!C33 -> шт | E41: 800 | F41: 8 | G41: 6400 | H41: 6400
C42: акустична система | D42: =[1]Лист1!C34 -> шт | E42: 8000 | F42: 1 | G42: 8000 | H42: 8000
C43: Стіл-трнасформер | D43: шт | E43: 18436 | F43: 1 | G43: 17000 | H43: 17000
...
